BEGIN:VCALENDAR
VERSION:2.0
PRODID:icalendar-ruby
CALSCALE:GREGORIAN
X-WR-TIMEZONE:Europe/Helsinki
BEGIN:VTIMEZONE
TZID:Europe/Helsinki
BEGIN:DAYLIGHT
DTSTART:20260329T040000
TZOFFSETFROM:+0200
TZOFFSETTO:+0300
RRULE:FREQ=YEARLY;BYDAY=-1SU;BYMONTH=3
TZNAME:EEST
END:DAYLIGHT
BEGIN:STANDARD
DTSTART:20261025T030000
TZOFFSETFROM:+0300
TZOFFSETTO:+0200
RRULE:FREQ=YEARLY;BYDAY=-1SU;BYMONTH=10
TZNAME:EET
END:STANDARD
END:VTIMEZONE
BEGIN:VEVENT
DTSTAMP:20260421T161933
UID:pnv.myclub.fi-10158719
DTSTART;TZID=Europe/Helsinki:20260409T143000
DTEND;TZID=Europe/Helsinki:20260409T163000
DESCRIPTION:Tervetuloa PNV:n Open Moveen PNV:n Liikuntakeskukseen! \nOpen M
 ove on tarkoitettu kouluikäisille lapsille (7-16v.). Tapahtumassa pääse
 e liikkumaan\, kiipeilemään ja temppuilemaan vapaasti turvallisessa ymp
 äristössä. Paikalla on aina koulutettu ohjaaja\, joka vastaa turvallisu
 udesta ja auttaa lapsia innostumaan erilaisista liikunnallisista aktivitee
 teistä. Lapsia ei ole vakuutettu toiminnan järjestäjän puolesta.\nAika
 : torstaisin klo 14.30-16.30\nPaikka: PNV:n Liikuntakeskus (Ohrahuhdantie 
 4)\, Move sali\nHuom! jokaiselle Open Move -kerralle tulee ilmoittautua ai
 na erikseen vaikka sinulla olisi voimassaoleva Open Move-kortti. Hinnat PN
 V:n jäsenille (huomioi\, että ilmoittaudut jäsenen myClub-tilillä):  \
 n Koko kevätkausi 2025 = 30€ \n kymmenen (10) kerran Open Move = 25€ 
 (Voimassa syksyn 2025 ja kevään 2026) \n viiden (5) kerran Open Move = 1
 4€ (Voimassa syksyn 2025 ja kevään 2026) \n yhden (1) kerran Open Move
  = 3€ (Voimassa syksyn 2025 ja kevään 2026) \n  Hinnat EI PNV:n jäsen
 ille:  \n kymmenen (10) kerran Open Move = 30€ (Voimassa syksyn 2025 ja 
 kevään 2026) \n viiden (5) kerran Open Move = 20€ (Voimassa syksyn 202
 5 ja kevään 20256 \n yhden (1) kerran Open Move = 5€ (Voimassa syksyn 
 2025 ja kevään 2026) \n \nOhjeet:\nKun ilmoittaudut Open Move kerralle\,
  tulee sinun ostaa yllämainittu tuote. Tuote luetaan Open Movessa eli lat
 aathan lapsen puhelimeen myClub-sovelluksen\, jotta kortin luku onnistuu.\
 nMikäli valitsette Open Move -hinnan PNV:n jäsenenä\, eikä teillä ole
  voimassa olevaa jäsenyyttä\, lähetämme jäsenmaksun teille Open Move 
 -kerran jälkeen.\nIlmoittautumisen jälkeen lasku tulee ilmoittamaasi sä
 hköpostiin (tarkista myös muut-kansiot). Lisäksi lasku löytyy omasta m
 yClubistasi. Laskulla on maksuaikaa 14 vuorokautta\, jonka jälkeen laskut
 uksen hoito siirtyy Vismalle. Laskun eräpäivän jälkeisistä muutoksist
 a perimme toimistomaksun 15€.\nPeruutusehdot:\nVoit perua tapahtumaosall
 istumisen ilmoitusajan puitteissa. Ilmoittautuminen päättyy samana päiv
 änä klo 12.00. Peruutukset tulee tehdä kirjallisesti sanna.peltola@pnv.
 fi. Ilmoittautumisajan jälkeisistä peruutuksista emme hyvitä osallistum
 ismaksuja ilman lääkärintodistusta.\nHenkilörekisteri: Ilmoittautumall
 a Open Move tunneille liityt PNV:n jäsenrekisteriin\, joka on luonteeltaa
 n henkilörekisteri. Pakilan Voimistelijat PNV ry:n tietosuojaselosteen l
 öydät https://pnv.fi/tietosuojaseloste/. \n \n\nhttps://pnv.myclub.fi/fl
 ow/events/10158719
LOCATION:PNV Liikuntakeskus / Move\, Ohrahuhdantie 4\, 00680 Helsinki
SEQUENCE:0
SUMMARY:Lasten harrasteliikunta: Open Move 7-12v. kevät 2026
URL;VALUE=URI:https://pnv.myclub.fi/flow/events/10158719
END:VEVENT
END:VCALENDAR
